BEGIN:VCALENDAR
VERSION:2.0
PRODID:-//Tukios.com/
BEGIN:VEVENT
UID:41f738f1-f085-4095-b63c-d4c437cc1273@www.drauckerfh.com
DTSTAMP:20260421T225252Z
DTSTART:20260502T160000Z
DTEND:20260502T170000Z
SUMMARY:Mass
DESCRIPTION:
URL:https://www.drauckerfh.com/obituaries/mary-morris
LOCATION:Saint Luke's Catholic Church 417 East 3rd Street  Ogallala NE 
	69153
GEO:41.1273051;-101.7153789
END:VEVENT
END:VCALENDAR